BEGIN:VCALENDAR
VERSION:2.0
PRODID:-//MNSBIR Inc. - ECPv6.15.20//NONSGML v1.0//EN
CALSCALE:GREGORIAN
METHOD:PUBLISH
X-WR-CALNAME:MNSBIR Inc.
X-ORIGINAL-URL:https://minnesotasbir.org
X-WR-CALDESC:Events for MNSBIR Inc.
REFRESH-INTERVAL;VALUE=DURATION:PT1H
X-Robots-Tag:noindex
X-PUBLISHED-TTL:PT1H
BEGIN:VTIMEZONE
TZID:America/Chicago
BEGIN:DAYLIGHT
TZOFFSETFROM:-0600
TZOFFSETTO:-0500
TZNAME:CDT
DTSTART:20250309T080000
END:DAYLIGHT
BEGIN:STANDARD
TZOFFSETFROM:-0500
TZOFFSETTO:-0600
TZNAME:CST
DTSTART:20251102T070000
END:STANDARD
BEGIN:DAYLIGHT
TZOFFSETFROM:-0600
TZOFFSETTO:-0500
TZNAME:CDT
DTSTART:20260308T080000
END:DAYLIGHT
BEGIN:STANDARD
TZOFFSETFROM:-0500
TZOFFSETTO:-0600
TZNAME:CST
DTSTART:20261101T070000
END:STANDARD
BEGIN:DAYLIGHT
TZOFFSETFROM:-0600
TZOFFSETTO:-0500
TZNAME:CDT
DTSTART:20270314T080000
END:DAYLIGHT
BEGIN:STANDARD
TZOFFSETFROM:-0500
TZOFFSETTO:-0600
TZNAME:CST
DTSTART:20271107T070000
END:STANDARD
END:VTIMEZONE
BEGIN:VEVENT
DTSTART;VALUE=DATE:20260512
DTEND;VALUE=DATE:20260515
DTSTAMP:20260423T010109
CREATED:20240202T164447Z
LAST-MODIFIED:20250915T163233Z
UID:10000230-1778544000-1778803199@minnesotasbir.org
SUMMARY:FLC National Meeting
DESCRIPTION:[vc_row][vc_column]\n	\n		\n\n\n			\n	\n\nFLC National Meeting[vc_column_text]FLC is now accepting topics for the 2026 National Meeting! What sessions and workshops would you want to lead or attend? Take an active role in the success of next year’s National Meeting by sending them your ideas! \nSome areas of interest from the FLC community include: \n\nRoundtable on Internal Marketing\, IP Disclosures\, and Small Budgets\nEcosystem Building\nData and Software Management\nMade in the USA/Manufacturing\nAI: Best Practices and Challenges for Tech Transfer Professionals\n\nSubmission Deadline: Monday\, Nov. 3\, 2025[/vc_column_text]\n		Call for Topics Submission Site\n							[/vc_column][/vc_row]
URL:https://minnesotasbir.org/event/flc-national-meeting/
LOCATION:The Westin Seattle
ATTACH;FMTTYPE=image/jpeg:https://minnesotasbir.org/wp-content/uploads/2025/03/FLC_BLUE_SQ_1631312519217.jpg
END:VEVENT
BEGIN:VEVENT
DTSTART;VALUE=DATE:20261201
DTEND;VALUE=DATE:20261204
DTSTAMP:20260423T010109
CREATED:20260302T210013Z
LAST-MODIFIED:20260302T210013Z
UID:10000868-1796083200-1796342399@minnesotasbir.org
SUMMARY:FLC Innovation for Impact
DESCRIPTION:s[vc_row][vc_column]\n	\n		\n\n\n			\n	\n\nInnovation for Impact: A National Security Technology Transfer Forum[vc_column_text css=””]Innovation for Impact: A National Security Technology Transfer Forum will be held Dec. 1–3\, 2026\, in Leesburg\, Va. Designed for federal labs and agencies working on national security innovation and technology transfer\, the first two days will include federal-only training\, education\, and best-practice discussions. Day three will welcome industry for networking and partnership engagement.[/vc_column_text]\n		Learn More\n							[/vc_column][/vc_row]
URL:https://minnesotasbir.org/event/flc-innovation-for-impact/
ATTACH;FMTTYPE=image/jpeg:https://minnesotasbir.org/wp-content/uploads/2025/03/FLC_BLUE_SQ_1631312519217.jpg
END:VEVENT
END:VCALENDAR