BEGIN:VCALENDAR
VERSION:2.0
PRODID:-//MNSBIR Inc. - ECPv6.15.20//NONSGML v1.0//EN
CALSCALE:GREGORIAN
METHOD:PUBLISH
X-ORIGINAL-URL:https://minnesotasbir.org
X-WR-CALDESC:Events for MNSBIR Inc.
REFRESH-INTERVAL;VALUE=DURATION:PT1H
X-Robots-Tag:noindex
X-PUBLISHED-TTL:PT1H
BEGIN:VTIMEZONE
TZID:America/Chicago
BEGIN:DAYLIGHT
TZOFFSETFROM:-0600
TZOFFSETTO:-0500
TZNAME:CDT
DTSTART:20250309T080000
END:DAYLIGHT
BEGIN:STANDARD
TZOFFSETFROM:-0500
TZOFFSETTO:-0600
TZNAME:CST
DTSTART:20251102T070000
END:STANDARD
BEGIN:DAYLIGHT
TZOFFSETFROM:-0600
TZOFFSETTO:-0500
TZNAME:CDT
DTSTART:20260308T080000
END:DAYLIGHT
BEGIN:STANDARD
TZOFFSETFROM:-0500
TZOFFSETTO:-0600
TZNAME:CST
DTSTART:20261101T070000
END:STANDARD
BEGIN:DAYLIGHT
TZOFFSETFROM:-0600
TZOFFSETTO:-0500
TZNAME:CDT
DTSTART:20270314T080000
END:DAYLIGHT
BEGIN:STANDARD
TZOFFSETFROM:-0500
TZOFFSETTO:-0600
TZNAME:CST
DTSTART:20271107T070000
END:STANDARD
END:VTIMEZONE
BEGIN:VEVENT
DTSTART;TZID=America/Chicago:20260304T180000
DTEND;TZID=America/Chicago:20260304T193000
DTSTAMP:20260419T183226
CREATED:20250425T215546Z
LAST-MODIFIED:20260226T154702Z
UID:10000764-1772647200-1772652600@minnesotasbir.org
SUMMARY:USPTO - Trademark Basics: Learn the Fundamentals
DESCRIPTION:[vc_row][vc_column width=”1/6″][/vc_column][vc_column width=”5/6″][vc_row_inner][vc_column_inner width=”1/2″]USPTO[vc_column_text css=”” text_style=”leader-text”]Trademark Basics: Learn the Fundamentals[/vc_column_text][/vc_column_inner][vc_column_inner width=”1/2″]\n	\n		\n\n\n			\n	\n\n[/vc_column_inner][/vc_row_inner][vc_column_text css=””]March 4\, 2026 | 6:00 PM – 7:30 PM CT | Virtual \nAre you a small business owner or entrepreneur interested in learning about trademarks and how to apply for a federal registration? If so\, this event is a must-attend. We’ll focus on trademark protection in the United States. The event is free\, but space is limited so register early. \nThis session will cover: \n\nDefinitions and types of trademarks\nBenefits of federal registration\nHow to select a trademark\nSteps for filing and registration\nWhere to find help\n\nThe webinar will be presented live via Webex on Wednesday\, February 4\, from 7-8:30 p.m. ET\, and will conclude with a question-and-answer session. After the presentation\, USPTO will dive into an interactive Q&A session with a trademark expert and direct you to free resources. \nThis event is hosted by the USPTO and will be livestreamed on Webex. \nFor more information\, contact TMWebinar@uspto.gov. \nAccessibility accommodation\nIf you are an individual with a disability and would like to request a reasonable accommodation\, please submit your request to the contact information listed above.[/vc_column_text]\n		Register Here\n							[/vc_column][/vc_row]
URL:https://minnesotasbir.org/event/uspto-trademark-basics/
LOCATION:Virtual – Zoom
ATTACH;FMTTYPE=image/jpeg:https://minnesotasbir.org/wp-content/uploads/2025/04/uspto_seal_full_color.jpg
END:VEVENT
END:VCALENDAR