BEGIN:VCALENDAR
VERSION:2.0
PRODID:-//MNSBIR Inc. - ECPv6.15.20//NONSGML v1.0//EN
CALSCALE:GREGORIAN
METHOD:PUBLISH
X-WR-CALNAME:MNSBIR Inc.
X-ORIGINAL-URL:https://minnesotasbir.org
X-WR-CALDESC:Events for MNSBIR Inc.
REFRESH-INTERVAL;VALUE=DURATION:PT1H
X-Robots-Tag:noindex
X-PUBLISHED-TTL:PT1H
BEGIN:VTIMEZONE
TZID:America/Chicago
BEGIN:DAYLIGHT
TZOFFSETFROM:-0600
TZOFFSETTO:-0500
TZNAME:CDT
DTSTART:20250309T080000
END:DAYLIGHT
BEGIN:STANDARD
TZOFFSETFROM:-0500
TZOFFSETTO:-0600
TZNAME:CST
DTSTART:20251102T070000
END:STANDARD
BEGIN:DAYLIGHT
TZOFFSETFROM:-0600
TZOFFSETTO:-0500
TZNAME:CDT
DTSTART:20260308T080000
END:DAYLIGHT
BEGIN:STANDARD
TZOFFSETFROM:-0500
TZOFFSETTO:-0600
TZNAME:CST
DTSTART:20261101T070000
END:STANDARD
BEGIN:DAYLIGHT
TZOFFSETFROM:-0600
TZOFFSETTO:-0500
TZNAME:CDT
DTSTART:20270314T080000
END:DAYLIGHT
BEGIN:STANDARD
TZOFFSETFROM:-0500
TZOFFSETTO:-0600
TZNAME:CST
DTSTART:20271107T070000
END:STANDARD
END:VTIMEZONE
BEGIN:VEVENT
DTSTART;TZID=America/Chicago:20260203T130000
DTEND;TZID=America/Chicago:20260203T143000
DTSTAMP:20260419T235300
CREATED:20250425T224017Z
LAST-MODIFIED:20260127T050908Z
UID:10000767-1770123600-1770129000@minnesotasbir.org
SUMMARY:USPTO - Trademark Basics Bootcamp 5
DESCRIPTION:[vc_row][vc_column width=”1/6″][/vc_column][vc_column width=”5/6″][vc_row_inner][vc_column_inner width=”1/2″]USPTO[vc_column_text text_style=”leader-text”]Trademark Basics Boot Camp\, Module 5: Application filing walk-through[/vc_column_text][/vc_column_inner][vc_column_inner width=”1/2″]\n	\n		\n\n\n			\n	\n\n[/vc_column_inner][/vc_row_inner][vc_column_text css=””]February 3\, 2026 | 2:00 PM – 3:30 PM CT | Virtual \nAre you a small business owner or entrepreneur interested in learning about trademarks and how to apply for a federal registration? If so\, this event is a must-attend. \nIn this fifth module of the eight-part virtual Trademark Basics Boot Camp\, USPTO will focus on filing for registration through Trademark Center\, including a live demonstration of a trademark filing. Trademark Center is the required system for filing an application with the USPTO. \nThis module will cover the following topics: \n\nTrademark basics\nTrademark Center basics\nApplication pre-filing checklist\nTrademark Center filing demonstration\nFinding help\n\nThis module will be presented live via Webex from 2-3:30 p.m. ET Tuesday\, February 3\, 2026\, and will conclude with a question-and-answer session. Please register by February 2. \nBe sure to check out the other boot camp modules running consecutively every week for the eight-week duration. You can attend the whole series or just the specific modules that best meet your needs. Separate registration is required for each module. After each event\, USPTO will email attendees links to a video recording of the module and a PDF of the presentation materials. You will only receive access to the recording if you are signed up for that module. \nFor questions about the event or the boot camp series\, please contact TMWebinar@uspto.gov. \nAccessibility Accommodation\nIf you are an individual with a disability and would like to request a reasonable accommodation\, please submit your request to the contact information listed above.[/vc_column_text]\n		Register Here\n							[/vc_column][/vc_row]
URL:https://minnesotasbir.org/event/uspto-trademark-basics-bootcamp-5/
ATTACH;FMTTYPE=image/jpeg:https://minnesotasbir.org/wp-content/uploads/2025/04/uspto_seal_full_color.jpg
END:VEVENT
BEGIN:VEVENT
DTSTART;TZID=America/Chicago:20260206T140000
DTEND;TZID=America/Chicago:20260206T150000
DTSTAMP:20260419T235300
CREATED:20250417T164815Z
LAST-MODIFIED:20260127T052811Z
UID:10000749-1770386400-1770390000@minnesotasbir.org
SUMMARY:USPTO - Federal Trademark Filing: Overview
DESCRIPTION:[vc_row][vc_column width=”1/6″][/vc_column][vc_column width=”5/6″][vc_row_inner][vc_column_inner width=”1/2″]USPTO[vc_column_text css=”.vc_custom_1769491551179{border-radius: 1px !important;}”] \nFederal Trademark Filing: Overview\n[/vc_column_text][/vc_column_inner][vc_column_inner width=”1/2″]\n	\n		\n\n\n			\n	\n\n[/vc_column_inner][/vc_row_inner][vc_column_text css=””]February 6\, 2026 | 2:00 PM – 3:00 PM CT | Virtual \nAre you a small business owner preparing to file an application to federally register your trademark? Or are you an experienced trademark attorney or paralegal interested in learning a new way of filing? \nJoin the federal trademark filing webinar to learn the fundamentals of our new filing system in Trademark Center. \nThe webinar will include: \n\nTrademark Center basics\nPre-filing checklist\nA filing demonstration\nWhere to find help\n\nThe webinar will be presented live via Webex on Friday\, February 6\, from 3-4 p.m. ET\, and will conclude with a question-and-answer session. \nFor more information\, email TMWebinar@uspto.gov. \nAccessibility accommodation\nIf you are an individual with a disability and would like to request a reasonable accommodation\, please submit your request to the contact information listed above.[/vc_column_text]\n		Register\n							[/vc_column][vc_column][/vc_column][/vc_row]
URL:https://minnesotasbir.org/event/uspto-ftf-overview/
ATTACH;FMTTYPE=image/jpeg:https://minnesotasbir.org/wp-content/uploads/2025/04/uspto_seal_full_color.jpg
END:VEVENT
BEGIN:VEVENT
DTSTART;TZID=America/Chicago:20260210T130000
DTEND;TZID=America/Chicago:20260210T143000
DTSTAMP:20260419T235300
CREATED:20250425T224846Z
LAST-MODIFIED:20260127T053750Z
UID:10000768-1770728400-1770733800@minnesotasbir.org
SUMMARY:USPTO - Trademark Basics Bootcamp 6
DESCRIPTION:[vc_row][vc_column width=”1/6″][/vc_column][vc_column width=”5/6″][vc_row_inner][vc_column_inner width=”1/2″]USPTO[vc_column_text text_style=”leader-text”]Trademark Basics Boot Camp\, Module 6: Responding to an office action[/vc_column_text][/vc_column_inner][vc_column_inner width=”1/2″]\n	\n		\n\n\n			\n	\n\n[/vc_column_inner][/vc_row_inner][vc_column_text css=””]February 10\, 2026 | 1:00 PM – 2:30 PM | Virtual \nAre you a small business owner or entrepreneur interested in learning about trademarks and how to apply for a federal registration? If so\, this event is a must-attend. \nIn this sixth module of the eight-part virtual Trademark Basics Boot Camp\, USPTO will focus on responding to office actions\, the official letters that USPTO examining attorneys issue after reviewing your trademark application. The event is free\, but space is limited\, so register early. \nThis module will cover the following topics: \n\nTrademark basics\nOffice action basics\nResponse timeframes and deadlines\nFiling a response\nTips for a successful response\nFinding help\n\nThis module will be presented live via Webex from 2-3:30 p.m. ET Tuesday\, February 10\, 2026\, and will conclude with a question-and-answer session. Please register by February 9. \nBe sure to check out the other boot camp modules running consecutively every week for the eight-week duration. You can attend the whole series or just the specific modules that best meet your needs. Separate registration is required for each module. After each event\, USPTO will email attendees links to a video recording of the module and a PDF of the presentation materials. You will only receive access to the recording if you are signed up for that module. \nFor questions about the event or the boot camp series\, please contact TMWebinar@uspto.gov. \nAccessibility Accommodation\nIf you are an individual with a disability and would like to request a reasonable accommodation\, please submit your request to the contact information listed above.[/vc_column_text]\n		Register\n							[/vc_column][/vc_row]
URL:https://minnesotasbir.org/event/uspto-trademark-basics-bootcamp-6/
ATTACH;FMTTYPE=image/jpeg:https://minnesotasbir.org/wp-content/uploads/2025/04/uspto_seal_full_color.jpg
END:VEVENT
BEGIN:VEVENT
DTSTART;TZID=America/Chicago:20260217T130000
DTEND;TZID=America/Chicago:20260217T143000
DTSTAMP:20260419T235300
CREATED:20250425T225607Z
LAST-MODIFIED:20260127T054731Z
UID:10000769-1771333200-1771338600@minnesotasbir.org
SUMMARY:USPTO - Trademark Basics Bootcamp 7: Keeping Your Registration Alive
DESCRIPTION:[vc_row][vc_column width=”1/6″][/vc_column][vc_column width=”5/6″][vc_row_inner][vc_column_inner width=”1/2″]USPTO[vc_column_text css=”” text_style=”leader-text”]Trademark Basics Boot Camp\, Module 7: Keeping Your Registration Alive[/vc_column_text][/vc_column_inner][vc_column_inner width=”1/2″]\n	\n		\n\n\n			\n	\n\n[/vc_column_inner][/vc_row_inner][vc_column_text css=””]February 17\, 2026 | 1:00 PM – 2:30 PM | Virtual \nAre you a small business owner or entrepreneur interested in learning about trademarks and how to apply for a federal registration? If so\, this event is a must-attend. \nIn this seventh module of the eight-part virtual Trademark Basics Boot Camp\, USPTO will focus on what happens after registration\, including mandatory filings to keep your registration alive. The event is free\, but space is limited\, so register early. \nThis module will cover the following topics: \n\nTrademark basics\nRequired post-registration filings\nOptional post-registration filings\nExamination of post-registration filings\nFinding help\n\nThis module will be presented live via Webex from 2-3:30 p.m. ET Tuesday\, February 17\, 2026\, and will conclude with a question-and-answer session. Please register by February 16. \nBe sure to check out the other boot camp modules running consecutively every week for the eight-week duration. You can attend the whole series or just the specific modules that best meet your needs. Separate registration is required for each module. After each event\, USPTO will email attendees links to a video recording of the module and a PDF of the presentation materials. You will only receive access to the recording if you are signed up for that module. \nFor questions about the event or the boot camp series\, please contact TMWebinar@uspto.gov. \nAccessibility Accommodation\nIf you are an individual with a disability and would like to request a reasonable accommodation\, please submit your request to the contact information listed above.[/vc_column_text]\n		Register Here\n							[/vc_column][/vc_row]
URL:https://minnesotasbir.org/event/uspto-trademark-basics-bootcamp-7/
ATTACH;FMTTYPE=image/jpeg:https://minnesotasbir.org/wp-content/uploads/2025/04/uspto_seal_full_color.jpg
END:VEVENT
END:VCALENDAR