BEGIN:VCALENDAR
VERSION:2.0
PRODID:-//MNSBIR Inc. - ECPv6.15.20//NONSGML v1.0//EN
CALSCALE:GREGORIAN
METHOD:PUBLISH
X-ORIGINAL-URL:https://minnesotasbir.org
X-WR-CALDESC:Events for MNSBIR Inc.
REFRESH-INTERVAL;VALUE=DURATION:PT1H
X-Robots-Tag:noindex
X-PUBLISHED-TTL:PT1H
BEGIN:VTIMEZONE
TZID:America/Chicago
BEGIN:DAYLIGHT
TZOFFSETFROM:-0600
TZOFFSETTO:-0500
TZNAME:CDT
DTSTART:20240310T080000
END:DAYLIGHT
BEGIN:STANDARD
TZOFFSETFROM:-0500
TZOFFSETTO:-0600
TZNAME:CST
DTSTART:20241103T070000
END:STANDARD
BEGIN:DAYLIGHT
TZOFFSETFROM:-0600
TZOFFSETTO:-0500
TZNAME:CDT
DTSTART:20250309T080000
END:DAYLIGHT
BEGIN:STANDARD
TZOFFSETFROM:-0500
TZOFFSETTO:-0600
TZNAME:CST
DTSTART:20251102T070000
END:STANDARD
BEGIN:DAYLIGHT
TZOFFSETFROM:-0600
TZOFFSETTO:-0500
TZNAME:CDT
DTSTART:20260308T080000
END:DAYLIGHT
BEGIN:STANDARD
TZOFFSETFROM:-0500
TZOFFSETTO:-0600
TZNAME:CST
DTSTART:20261101T070000
END:STANDARD
END:VTIMEZONE
BEGIN:VEVENT
DTSTART;TZID=America/Chicago:20250809T123000
DTEND;TZID=America/Chicago:20250809T140000
DTSTAMP:20260423T054912
CREATED:20250626T230303Z
LAST-MODIFIED:20250626T230303Z
UID:10000814-1754742600-1754748000@minnesotasbir.org
SUMMARY:USPTO - Successful Inventing: Marketing and Advertising
DESCRIPTION:[vc_row][vc_column width=”1/6″][/vc_column][vc_column width=”5/6″][vc_row_inner][vc_column_inner width=”1/2″]USPTO[vc_column_text text_style=”leader-text”]Successful Inventing: Marketing and Advertising[/vc_column_text][/vc_column_inner][vc_column_inner width=”1/2″]\n	\n		\n\n\n			\n	\n\n[/vc_column_inner][/vc_row_inner][vc_column_text]August 9\, 2025 | 12:30 PM – 2:00 PM CT | Virtual \n  \nRegister today for this virtual event on Market Development in the Successful Inventing series for 2025\, presented by the United States Patent and Trademark Office and the Licensing Executives Society – Silicon Valley Chapter. \nThis session focuses on early-stage funding and informal planning: \n\nPreliminary marketing and advertising\nThe message and the media – the value proposition\nDistribution options\nWholesale and retail outlets\nInternet and online strategies\n\nThe Successful Inventing series covers various aspects of the invention process. During each virtual\, monthly session\, participants will hear experts discuss intellectual property\, product development\, licensing\, funding\, and more. A question-and-answer session will follow the presentation. Please email your questions in advance or during the event to northeast@uspto.gov. \nFor more information\, please email northeast@uspto.gov. \nAccessibility Accommodation\nIf you are an individual with a disability and would like to request a reasonable accommodation\, please submit your request to the contact information listed above.[/vc_column_text]\n		Register\n							[/vc_column][/vc_row]
URL:https://minnesotasbir.org/event/uspto-successful-inventing-8/
ATTACH;FMTTYPE=image/jpeg:https://minnesotasbir.org/wp-content/uploads/2025/04/uspto_seal_full_color.jpg
END:VEVENT
END:VCALENDAR