BEGIN:VCALENDAR
VERSION:2.0
PRODID:-//MNSBIR Inc. - ECPv6.15.20//NONSGML v1.0//EN
CALSCALE:GREGORIAN
METHOD:PUBLISH
X-ORIGINAL-URL:https://minnesotasbir.org
X-WR-CALDESC:Events for MNSBIR Inc.
REFRESH-INTERVAL;VALUE=DURATION:PT1H
X-Robots-Tag:noindex
X-PUBLISHED-TTL:PT1H
BEGIN:VTIMEZONE
TZID:America/Chicago
BEGIN:DAYLIGHT
TZOFFSETFROM:-0600
TZOFFSETTO:-0500
TZNAME:CDT
DTSTART:20250309T080000
END:DAYLIGHT
BEGIN:STANDARD
TZOFFSETFROM:-0500
TZOFFSETTO:-0600
TZNAME:CST
DTSTART:20251102T070000
END:STANDARD
BEGIN:DAYLIGHT
TZOFFSETFROM:-0600
TZOFFSETTO:-0500
TZNAME:CDT
DTSTART:20260308T080000
END:DAYLIGHT
BEGIN:STANDARD
TZOFFSETFROM:-0500
TZOFFSETTO:-0600
TZNAME:CST
DTSTART:20261101T070000
END:STANDARD
BEGIN:DAYLIGHT
TZOFFSETFROM:-0600
TZOFFSETTO:-0500
TZNAME:CDT
DTSTART:20270314T080000
END:DAYLIGHT
BEGIN:STANDARD
TZOFFSETFROM:-0500
TZOFFSETTO:-0600
TZNAME:CST
DTSTART:20271107T070000
END:STANDARD
END:VTIMEZONE
BEGIN:VEVENT
DTSTART;TZID=America/Chicago:20260324T090000
DTEND;TZID=America/Chicago:20260324T100000
DTSTAMP:20260421T083942
CREATED:20250626T015636Z
LAST-MODIFIED:20260226T044604Z
UID:10000802-1774342800-1774346400@minnesotasbir.org
SUMMARY:APEX Accelerator - Government-Led Innovation Programs (GIP) for Small Businesses
DESCRIPTION:[vc_row][vc_column width=”1/6″][/vc_column][vc_column width=”5/6″]\n	\n		\n\n\n			\n	\n\nAPEX Accelerator[vc_column_text text_style=”leader-text”]Government-Led Innovation Programs (GIP) for Small Businesses[/vc_column_text][vc_column_text css=””]Date: 3/24/2026\nTime: 9:00 AM – 10:00 AM (CDT)\nFee: No Fee\nPoint of Contact: Tonya Lamont\nProgram Format: Online Meeting (Live)\nTraining Topics: Government Contracting\, SBIR/STTR/Other Innovation Programs\, Selling to Government \nDescription:\nJoin this session to learn more about opportunities that support research & development and technology transfer. You will gain a basic understanding of Small Business Innovation Research / Small Business Technology Transfer (SBIR/STTR)\, Manufacturing Innovation Institutes (MIIs)\, Federal Labs Consortium (FLC)\, and other programs that can help develop and commercialize your innovative solutions for both private and public sector procurement.[/vc_column_text]\n		Register\n							[/vc_column][/vc_row]
URL:https://minnesotasbir.org/event/apex-accelerator-government-led-innovation-programs-gip-for-small-businesses/
CATEGORIES:MN APEX Accelerator
ATTACH;FMTTYPE=image/png:https://minnesotasbir.org/wp-content/uploads/2024/09/APEX_Admin-Logo-Template_APEX.png
ORGANIZER;CN="APEX Accelerator":MAILTO:apexaccelerator.adm@state.mn.us
END:VEVENT
END:VCALENDAR