BEGIN:VCALENDAR
VERSION:2.0
PRODID:-//MNSBIR Inc. - ECPv6.15.20//NONSGML v1.0//EN
CALSCALE:GREGORIAN
METHOD:PUBLISH
X-ORIGINAL-URL:https://minnesotasbir.org
X-WR-CALDESC:Events for MNSBIR Inc.
REFRESH-INTERVAL;VALUE=DURATION:PT1H
X-Robots-Tag:noindex
X-PUBLISHED-TTL:PT1H
BEGIN:VTIMEZONE
TZID:America/Chicago
BEGIN:DAYLIGHT
TZOFFSETFROM:-0600
TZOFFSETTO:-0500
TZNAME:CDT
DTSTART:20250309T080000
END:DAYLIGHT
BEGIN:STANDARD
TZOFFSETFROM:-0500
TZOFFSETTO:-0600
TZNAME:CST
DTSTART:20251102T070000
END:STANDARD
BEGIN:DAYLIGHT
TZOFFSETFROM:-0600
TZOFFSETTO:-0500
TZNAME:CDT
DTSTART:20260308T080000
END:DAYLIGHT
BEGIN:STANDARD
TZOFFSETFROM:-0500
TZOFFSETTO:-0600
TZNAME:CST
DTSTART:20261101T070000
END:STANDARD
BEGIN:DAYLIGHT
TZOFFSETFROM:-0600
TZOFFSETTO:-0500
TZNAME:CDT
DTSTART:20270314T080000
END:DAYLIGHT
BEGIN:STANDARD
TZOFFSETFROM:-0500
TZOFFSETTO:-0600
TZNAME:CST
DTSTART:20271107T070000
END:STANDARD
END:VTIMEZONE
BEGIN:VEVENT
DTSTART;TZID=America/Chicago:20260331T090000
DTEND;TZID=America/Chicago:20260331T110000
DTSTAMP:20260421T204442
CREATED:20260226T045303Z
LAST-MODIFIED:20260226T050514Z
UID:10000866-1774947600-1774954800@minnesotasbir.org
SUMMARY:APEX Accelerator - Venturing Into the Unknown: What You Need to Know About Joint Ventures and Teaming Agreements
DESCRIPTION:[vc_row][vc_column width=”1/6″][/vc_column][vc_column width=”5/6″]\n	\n		\n\n\n			\n	\n\nAPEX Accelerator[vc_column_text css=””] \nVenturing Into the Unknown: What You Need to Know About Joint Ventures and Teaming Agreements\nDate: 3/31/2026\nTime: 9:00 AM – 10:00 AM (CDT)\nRegistration Deadline: 3/31/2026 5:00 PM (CDT)\nFee: No Fee\nPoint of Contact: Tonya Lamont\nProgram Format: Online Meeting (Live)\nTraining Topics: Government Contracting\, Legal Issues \nDescription:\nHear from Eckland & Blando legal professionals as they explain the basics of Joint Ventures and Teaming Agreements\, why they can be attractive options for government contractors\, common risks and concerns with them\, and best practices for performing in a joint venture or executing a teaming agreement.[/vc_column_text]\n		Register Here\n							[/vc_column][/vc_row]
URL:https://minnesotasbir.org/event/apex-accelerator-venturing-into-the-unknown-what-you-need-to-know-about-joint-ventures-and-teaming-agreements/
CATEGORIES:MN APEX Accelerator
ATTACH;FMTTYPE=image/png:https://minnesotasbir.org/wp-content/uploads/2024/09/APEX_Admin-Logo-Template_APEX.png
END:VEVENT
END:VCALENDAR