BEGIN:VCALENDAR
VERSION:2.0
PRODID:-//MNSBIR Inc. - ECPv6.15.20//NONSGML v1.0//EN
CALSCALE:GREGORIAN
METHOD:PUBLISH
X-ORIGINAL-URL:https://minnesotasbir.org
X-WR-CALDESC:Events for MNSBIR Inc.
REFRESH-INTERVAL;VALUE=DURATION:PT1H
X-Robots-Tag:noindex
X-PUBLISHED-TTL:PT1H
BEGIN:VTIMEZONE
TZID:America/Chicago
BEGIN:DAYLIGHT
TZOFFSETFROM:-0600
TZOFFSETTO:-0500
TZNAME:CDT
DTSTART:20250309T080000
END:DAYLIGHT
BEGIN:STANDARD
TZOFFSETFROM:-0500
TZOFFSETTO:-0600
TZNAME:CST
DTSTART:20251102T070000
END:STANDARD
BEGIN:DAYLIGHT
TZOFFSETFROM:-0600
TZOFFSETTO:-0500
TZNAME:CDT
DTSTART:20260308T080000
END:DAYLIGHT
BEGIN:STANDARD
TZOFFSETFROM:-0500
TZOFFSETTO:-0600
TZNAME:CST
DTSTART:20261101T070000
END:STANDARD
BEGIN:DAYLIGHT
TZOFFSETFROM:-0600
TZOFFSETTO:-0500
TZNAME:CDT
DTSTART:20270314T080000
END:DAYLIGHT
BEGIN:STANDARD
TZOFFSETFROM:-0500
TZOFFSETTO:-0600
TZNAME:CST
DTSTART:20271107T070000
END:STANDARD
END:VTIMEZONE
BEGIN:VEVENT
DTSTART;TZID=America/Chicago:20260428T090000
DTEND;TZID=America/Chicago:20260428T100000
DTSTAMP:20260424T035153
CREATED:20241028T173929Z
LAST-MODIFIED:20260226T050519Z
UID:10000643-1777366800-1777370400@minnesotasbir.org
SUMMARY:APEX Accelerator - Understanding Types of Government Solicitations
DESCRIPTION:[vc_row][vc_column width=”1/6″][/vc_column][vc_column width=”5/6″]\n	\n		\n\n\n			\n	\n\nAPEX Accelerator[vc_column_text text_style=”leader-text”]Understanding Types of Government Solicitations[/vc_column_text][vc_column_text css=””]Date: 4/28/2026\nTime: 9:00 AM – 10:00 AM (CDT)\nRegistration Deadline: 4/28/2026 5:00 PM (CDT)\nFee: No Fee \nPoint of Contact: Tonya Lamont (651) 201-2604 \nProgram Format: Online Meeting (Live)\nTraining Topics: Defense Industrial Base (DIB) Readiness\, Government Contracting\, Government Industrial Base (GIB) Readiness\, Selling to Government \nDescription:\nThe government is a great customer to add to your business – but competition can be fierce and the process has become increasingly difficult. Join APEX Accelerator for this session to learn about the most common acronyms in contracting; the difference between solicitations and unsolicited proposals; the parts of a solicitation; and more\, so that you can become a competitive and competent bidder ready to position yourself for success.[/vc_column_text]\n		Register Here\n							[/vc_column][/vc_row]
URL:https://minnesotasbir.org/event/apex-accelerator-understanding-types-of-government-solicitations/
CATEGORIES:MN APEX Accelerator
ATTACH;FMTTYPE=image/png:https://minnesotasbir.org/wp-content/uploads/2024/09/APEX_Admin-Logo-Template_APEX.png
ORGANIZER;CN="APEX Accelerator":MAILTO:apexaccelerator.adm@state.mn.us
END:VEVENT
END:VCALENDAR