BEGIN:VCALENDAR
VERSION:2.0
PRODID:-//MNSBIR Inc. - ECPv6.15.20//NONSGML v1.0//EN
CALSCALE:GREGORIAN
METHOD:PUBLISH
X-WR-CALNAME:MNSBIR Inc.
X-ORIGINAL-URL:https://minnesotasbir.org
X-WR-CALDESC:Events for MNSBIR Inc.
REFRESH-INTERVAL;VALUE=DURATION:PT1H
X-Robots-Tag:noindex
X-PUBLISHED-TTL:PT1H
BEGIN:VTIMEZONE
TZID:America/Chicago
BEGIN:DAYLIGHT
TZOFFSETFROM:-0600
TZOFFSETTO:-0500
TZNAME:CDT
DTSTART:20240310T080000
END:DAYLIGHT
BEGIN:STANDARD
TZOFFSETFROM:-0500
TZOFFSETTO:-0600
TZNAME:CST
DTSTART:20241103T070000
END:STANDARD
BEGIN:DAYLIGHT
TZOFFSETFROM:-0600
TZOFFSETTO:-0500
TZNAME:CDT
DTSTART:20250309T080000
END:DAYLIGHT
BEGIN:STANDARD
TZOFFSETFROM:-0500
TZOFFSETTO:-0600
TZNAME:CST
DTSTART:20251102T070000
END:STANDARD
BEGIN:DAYLIGHT
TZOFFSETFROM:-0600
TZOFFSETTO:-0500
TZNAME:CDT
DTSTART:20260308T080000
END:DAYLIGHT
BEGIN:STANDARD
TZOFFSETFROM:-0500
TZOFFSETTO:-0600
TZNAME:CST
DTSTART:20261101T070000
END:STANDARD
END:VTIMEZONE
BEGIN:VEVENT
DTSTART;TZID=America/Chicago:20251030T170000
DTEND;TZID=America/Chicago:20251030T190000
DTSTAMP:20260424T091907
CREATED:20251013T211001Z
LAST-MODIFIED:20251013T211001Z
UID:10000844-1761843600-1761850800@minnesotasbir.org
SUMMARY:APEX Accelerator - Crafting Effective Capability Statements & Marketing Materials for Government Contracting
DESCRIPTION:[vc_row][vc_column width=”1/6″][/vc_column][vc_column width=”4/6″]\n	\n		\n\n\n			\n	\n\nAPEX Accelerator[vc_column_text text_style=”leader-text”]Crafting Effective Capability Statements & Marketing Materials for Government Contracting[/vc_column_text][vc_column_text]Date: 10/30/2025\nTime: 5:00 PM – 7:00 PM (CDT)\nFee: No Fee\nPoint of Contact: Candice Ellis (651) 224-4320\nTraining Topics: Government Contracting\, Government Industrial Base (GIB) Readiness\, Marketing/Sales \nDescription:\nThis session is a part of a series in partnership with the MN Black Chamber of Commerce; we will meet monthly through November to provide information on various topics of government contracting.  \nIn the competitive world of government contracting\, a well-crafted capability statement and strategic marketing materials can set your business apart. This session will equip participants with the skills to develop compelling capability statements that showcase their expertise\, experience\, and value proposition. \nTopics covered include: elements of a powerful capability statement; best practices for tailoring materials to different agencies and contract opportunities; and strategies for branding\, messaging\, and positioning within the government sector. \nBy the end of the session\, participants will have a clear roadmap for creating impactful materials that resonate with government buyers\, increasing their chances of securing contracts.[/vc_column_text]\n		Register Here\n							[/vc_column][/vc_row]
URL:https://minnesotasbir.org/event/apex-accelerator-2155/
CATEGORIES:MN APEX Accelerator
ATTACH;FMTTYPE=image/png:https://minnesotasbir.org/wp-content/uploads/2024/09/APEX_Admin-Logo-Template_APEX.png
ORGANIZER;CN="APEX Accelerator":MAILTO:apexaccelerator.adm@state.mn.us
END:VEVENT
END:VCALENDAR