BEGIN:VCALENDAR
VERSION:2.0
PRODID:-//MNSBIR Inc. - ECPv6.15.20//NONSGML v1.0//EN
CALSCALE:GREGORIAN
METHOD:PUBLISH
X-ORIGINAL-URL:https://minnesotasbir.org
X-WR-CALDESC:Events for MNSBIR Inc.
REFRESH-INTERVAL;VALUE=DURATION:PT1H
X-Robots-Tag:noindex
X-PUBLISHED-TTL:PT1H
BEGIN:VTIMEZONE
TZID:America/Chicago
BEGIN:DAYLIGHT
TZOFFSETFROM:-0600
TZOFFSETTO:-0500
TZNAME:CDT
DTSTART:20240310T080000
END:DAYLIGHT
BEGIN:STANDARD
TZOFFSETFROM:-0500
TZOFFSETTO:-0600
TZNAME:CST
DTSTART:20241103T070000
END:STANDARD
BEGIN:DAYLIGHT
TZOFFSETFROM:-0600
TZOFFSETTO:-0500
TZNAME:CDT
DTSTART:20250309T080000
END:DAYLIGHT
BEGIN:STANDARD
TZOFFSETFROM:-0500
TZOFFSETTO:-0600
TZNAME:CST
DTSTART:20251102T070000
END:STANDARD
BEGIN:DAYLIGHT
TZOFFSETFROM:-0600
TZOFFSETTO:-0500
TZNAME:CDT
DTSTART:20260308T080000
END:DAYLIGHT
BEGIN:STANDARD
TZOFFSETFROM:-0500
TZOFFSETTO:-0600
TZNAME:CST
DTSTART:20261101T070000
END:STANDARD
BEGIN:DAYLIGHT
TZOFFSETFROM:-0600
TZOFFSETTO:-0500
TZNAME:CDT
DTSTART:20270314T080000
END:DAYLIGHT
BEGIN:STANDARD
TZOFFSETFROM:-0500
TZOFFSETTO:-0600
TZNAME:CST
DTSTART:20271107T070000
END:STANDARD
END:VTIMEZONE
BEGIN:VEVENT
DTSTART;TZID=America/Chicago:20250617T083000
DTEND;TZID=America/Chicago:20250617T120000
DTSTAMP:20260425T135925
CREATED:20240311T143554Z
LAST-MODIFIED:20250521T161655Z
UID:10000515-1750149000-1750161600@minnesotasbir.org
SUMMARY:AI for Small Business Practical Ways to Drive Growth with AI
DESCRIPTION:[vc_row][vc_column width=”1/6″][/vc_column][vc_column width=”5/6″][vc_row_inner][vc_column_inner width=”2/3″]\n	\n		\n\n\n			\n	\n\n\nAI for Small Business\nPractical Ways to Drive Growth with AI\n[vc_column_text]About the Workshop\nA hands-on approach to AI implementation for small and medium businesses \nWhy Attend?\nSmall and medium-sized businesses face unique challenges when adopting AI technologies. This workshop cuts through the complexity to deliver practical\, affordable AI implementation strategies specifically designed for SMB needs. \nInstead of theoretical concepts\, you’ll learn actionable tactics that can be implemented immediately\, with measurable results for your business growth and efficiency. \nBy the end of the workshop\, you’ll have a customized AI implementation roadmap tailored to your specific business challenges and opportunities.[/vc_column_text]\n		Register Here\n							[/vc_column_inner][vc_column_inner width=”1/3″][vc_column_text text_style=”small-text”] \nIn Collaboration with: \n[/vc_column_text]\n	\n		\n\n\n			\n	\n\n\n	\n		\n\n\n			\n	\n\n[/vc_column_inner][/vc_row_inner][/vc_column][/vc_row]
URL:https://minnesotasbir.org/event/collaboration-ai/
LOCATION:Collaboration.AI\, Osborn370 | 12th floor\, St. Paul\, MN\, 55102
CATEGORIES:MNSBIR Events
END:VEVENT
BEGIN:VEVENT
DTSTART;TZID=America/Chicago:20250716T100000
DTEND;TZID=America/Chicago:20250716T113000
DTSTAMP:20260425T135925
CREATED:20250408T202636Z
LAST-MODIFIED:20250425T130432Z
UID:10000739-1752660000-1752665400@minnesotasbir.org
SUMMARY:SBIR/STTR Ask-Us-Anything | July
DESCRIPTION:SBIR/STTR Ask Us Anything\nThe Small Business Innovation Research (SBIR) and Small Business Technology Transfer (STTR) programs award non-dilutive funding to small businesses to enable them to develop a technology and chart a path toward it’s commercialization. \nThe session is an opportunity for you to ask questions about the SBIR/STTR Programs and how to apply the knowledge gained in our MNSBIR\, Inc. and SBIR/STTR Overview. \nThis FREE session is offered monthly.
URL:https://minnesotasbir.org/event/sbir-sttr-aua-2025-7-16/
LOCATION:Virtual – Zoom
CATEGORIES:Ask Us Anything,MNSBIR Events
ATTACH;FMTTYPE=image/png:https://minnesotasbir.org/wp-content/uploads/2023/12/MNSBIR-Program-Logos_EDUCATION.png
END:VEVENT
BEGIN:VEVENT
DTSTART;TZID=America/Chicago:20250813T100000
DTEND;TZID=America/Chicago:20250813T113000
DTSTAMP:20260425T135925
CREATED:20250408T202915Z
LAST-MODIFIED:20250425T130420Z
UID:10000740-1755079200-1755084600@minnesotasbir.org
SUMMARY:SBIR/STTR Ask-Us-Anything | August
DESCRIPTION:SBIR/STTR Ask Us Anything\nThe Small Business Innovation Research (SBIR) and Small Business Technology Transfer (STTR) programs award non-dilutive funding to small businesses to enable them to develop a technology and chart a path toward it’s commercialization. \nThe session is an opportunity for you to ask questions about the SBIR/STTR Programs and how to apply the knowledge gained in our MNSBIR\, Inc. and SBIR/STTR Overview. \nThis FREE session is offered monthly.
URL:https://minnesotasbir.org/event/sbir-sttr-aua-2025-8-13/
LOCATION:Virtual – Zoom
CATEGORIES:Ask Us Anything,MNSBIR Events
ATTACH;FMTTYPE=image/png:https://minnesotasbir.org/wp-content/uploads/2023/12/MNSBIR-Program-Logos_EDUCATION.png
END:VEVENT
BEGIN:VEVENT
DTSTART;TZID=America/Chicago:20250910T100000
DTEND;TZID=America/Chicago:20250910T113000
DTSTAMP:20260425T135925
CREATED:20250725T152024Z
LAST-MODIFIED:20250725T152024Z
UID:10000829-1757498400-1757503800@minnesotasbir.org
SUMMARY:SBIR/STTR Ask-Us-Anything | September
DESCRIPTION:[vc_row][vc_column width=”5/6″][vc_column_text] \nSBIR/STTR Ask Us Anything\nThe Small Business Innovation Research (SBIR) and Small Business Technology Transfer (STTR) programs award non-dilutive funding to small businesses to enable them to develop a technology and chart a path toward it’s commercialization. \nThe session is an opportunity for you to ask questions about the SBIR/STTR Programs and how to apply the knowledge gained in our MNSBIR\, Inc. and SBIR/STTR Overview. \nThis FREE session is offered monthly. \n[/vc_column_text][/vc_column][/vc_row]
URL:https://minnesotasbir.org/event/sbir-sttr-ask-us-anything-sept/
LOCATION:Virtual – Zoom
CATEGORIES:Ask Us Anything,MNSBIR Events
ATTACH;FMTTYPE=image/png:https://minnesotasbir.org/wp-content/uploads/2023/12/MNSBIR-Program-Logos_EDUCATION.png
END:VEVENT
BEGIN:VEVENT
DTSTART;TZID=America/Chicago:20260407T130000
DTEND;TZID=America/Chicago:20260407T170000
DTSTAMP:20260425T135925
CREATED:20260211T165351Z
LAST-MODIFIED:20260407T161919Z
UID:10000860-1775566800-1775581200@minnesotasbir.org
SUMMARY:Vision Unlocked
DESCRIPTION:[vc_row][vc_column width=”1/2″]Vision Unlocked Startup Version[vc_column_text css=”” text_style=”subtitle”]From Swirl to Sprint: 90 Days to Real Momentum[/vc_column_text][vc_column_text css=”” text_style=”leader-text”]Identify and build on your purpose\, vision\, mission and strategic anchors to focus and define realistic\, achievable goals in 90 days[/vc_column_text][vc_column_text css=”” text_style=”page-description”]Presented by Mark Stockhowe \nDate: April 7\, 2026\nTime: 1 – 5 PM CT[/vc_column_text][/vc_column][vc_column width=”1/2″]\n	\n		\n\n\n			\n	\n\n[/vc_column][/vc_row][vc_row][vc_column width=”5/6″][vc_row_inner disable_element=”yes”][vc_column_inner width=”2/5″][vc_column_text css=”” text_style=”page-description”]Who Should Attend\nVisionary founders\n(pre-seed to seed\, team size 1–10) \nWhere\nMcNamara Alumni Center\nTechnology Commercialization Center \nCost (Per Person)\n$59[/vc_column_text][/vc_column_inner][vc_column_inner width=”3/5″ rc_add_shadow=”small-shadow”][vc_column_text css=”.vc_custom_1771474446514{background-color: #EDF1F5 !important;}”] \n\n\n\nWhat’s Included: \n\n\n4-hour Interactive Workshop\n\n\n90-day Clarity Sprint (One Goal\,One Meeting\, One Scoreboard)\n\n\nA first Roles & Responsibilities sketch\n\n\nA running Idea Bank\n\n\n\n[/vc_column_text][/vc_column_inner][/vc_row_inner][vc_row_inner][vc_column_inner width=”1/3″][vc_column_text css=”” text_style=”page-description”]Who Should Attend\nVisionary founders\n(Team size 1–10) \n\nWhere\nMcNamara Alumni Center\nDiscovery Nexus\nLaukka Conference Room \n\nCost (Per Person)\n$99[/vc_column_text][/vc_column_inner][vc_column_inner width=”2/3″ content_width=”80″ horizontal_content_position=”center” grve_css=”{“desktop“:{“margin-top“:“25“\,“margin-right“:“25“\,“margin-bottom“:“25“\,“margin-left“:“25“\,“padding-top“:“25“\,“padding-right“:“25“\,“padding-bottom“:“25“\,“padding-left“:“25“\,“class“:“grve-wpb-1771515389435“}}”][vc_column_text css=”” text_style=”page-description”]What’s Included \n4-hour Interactive Workshop \n\n90-day Clarity Sprint (One Goal\, One Meeting\, One Scoreboard) \n\nA first Roles & Responsibilities sketch \n\nA running Idea Bank \n\nOne Hour 1:1 Meeting with Mark Stockhowe[/vc_column_text][vc_column_text css=””][/vc_column_text][/vc_column_inner][/vc_row_inner][vc_row_inner][vc_column_inner][vc_column_text css=””]Early-stage\, innovation-driven companies move fast\, but speed can work against you as teams grow\, customers add complexity\, and informal ways of working begin to strain. Founders often feel the tension between staying agile today and building something that won’t break as the company scales. Decisions multiply\, priorities compete\, and what once lived in the founder’s head must become shared clarity across the team. \nThis workshop helps founders and small leadership teams build resilience by aligning on what matters now\, anticipating the challenges ahead\, and making intentional choices that support both near-term execution and long-term growth. Rather than adding heavy process\, the focus is on establishing a strong foundation that reduces friction\, improves decision-making\, and allows the company to start with simplicity—adding structure and capability only when it creates real value. \nAt this workshop\, Mark will equip participants with: \n\nHow to build operational rhythm and focus without stifling your creative spark.\nActionable steps to deliver immediate traction.\nThe framework for turning a visionary concept into a disciplined\, scalable machine.\n\nFounders will leave with a clear\, practical framework for aligning their team today while positioning the company to grow and scale sanely in the future.[/vc_column_text][vc_column_text css=””] \nAbout the Presenter:\nWorkshop facilitator Mark Stockhowe helps visionary founders bridge the gap from “big idea” to “big business.” An experienced operator and advisor\, he has spent his career supporting innovation-driven companies as they grow\, working with organizations ranging from a handful of employees to hundreds. With deep roots in healthcare and IT\, Mark has a knack for helping early-stage teams convert technical potential into commercial reality\, while guiding founders and leadership teams through growth\, alignment\, and execution challenges without losing momentum. \nBeyond his current role leading an emerging medical diagnostics company\, Mark is the architect of the Swirl to Scale™ System—an “operating system for innovation” that provides a roadmap for businesses journeying from startup to $100M\, helping leaders replace chaos with clarity and sustainable progress.[/vc_column_text][/vc_column_inner][/vc_row_inner][/vc_column][vc_column width=”1/6″][/vc_column][/vc_row]
URL:https://minnesotasbir.org/event/vision-unlocked/
LOCATION:McNamara Alumni Center\, Minneapolis\, MN
CATEGORIES:MNSBIR Events
ATTACH;FMTTYPE=image/png:https://minnesotasbir.org/wp-content/uploads/2026/02/Basic-Education-Logo-circle.png
END:VEVENT
END:VCALENDAR