BEGIN:VCALENDAR
VERSION:2.0
PRODID:-//MNSBIR Inc. - ECPv6.15.20//NONSGML v1.0//EN
CALSCALE:GREGORIAN
METHOD:PUBLISH
X-WR-CALNAME:MNSBIR Inc.
X-ORIGINAL-URL:https://minnesotasbir.org
X-WR-CALDESC:Events for MNSBIR Inc.
REFRESH-INTERVAL;VALUE=DURATION:PT1H
X-Robots-Tag:noindex
X-PUBLISHED-TTL:PT1H
BEGIN:VTIMEZONE
TZID:America/Chicago
BEGIN:DAYLIGHT
TZOFFSETFROM:-0600
TZOFFSETTO:-0500
TZNAME:CDT
DTSTART:20250309T080000
END:DAYLIGHT
BEGIN:STANDARD
TZOFFSETFROM:-0500
TZOFFSETTO:-0600
TZNAME:CST
DTSTART:20251102T070000
END:STANDARD
BEGIN:DAYLIGHT
TZOFFSETFROM:-0600
TZOFFSETTO:-0500
TZNAME:CDT
DTSTART:20260308T080000
END:DAYLIGHT
BEGIN:STANDARD
TZOFFSETFROM:-0500
TZOFFSETTO:-0600
TZNAME:CST
DTSTART:20261101T070000
END:STANDARD
BEGIN:DAYLIGHT
TZOFFSETFROM:-0600
TZOFFSETTO:-0500
TZNAME:CDT
DTSTART:20270314T080000
END:DAYLIGHT
BEGIN:STANDARD
TZOFFSETFROM:-0500
TZOFFSETTO:-0600
TZNAME:CST
DTSTART:20271107T070000
END:STANDARD
END:VTIMEZONE
BEGIN:VEVENT
DTSTART;TZID=America/Chicago:20260505T130000
DTEND;TZID=America/Chicago:20260505T140000
DTSTAMP:20260425T054129
CREATED:20240613T035655Z
LAST-MODIFIED:20260226T043742Z
UID:10000865-1777986000-1777989600@minnesotasbir.org
SUMMARY:APEX Accelerator - APEX Accelerator Orientation
DESCRIPTION:[vc_row][vc_column width=”1/6″][/vc_column][vc_column width=”5/6″]\n	\n		\n\n\n			\n	\n\nAPEX Accelerator[vc_column_text text_style=”leader-text”]APEX Accelerator Orientation[/vc_column_text][vc_column_text css=””]Attending the Orientation Class is the first step in understanding APEX services and how they can assist in your local\, state and federal government contracting efforts. Acquaint yourself with the State of Minnesota\, Department of Administration’s APEX Accelerator services and resources offered to assist your small business with successfully entering into the government marketplace.[/vc_column_text]\n		\n		Register\n							\n						\n				\n			\n								\n					\n	[/vc_column][/vc_row]
URL:https://minnesotasbir.org/event/apex-accelerator-orientation/2026-05-05/
CATEGORIES:MN APEX Accelerator
ATTACH;FMTTYPE=image/png:https://minnesotasbir.org/wp-content/uploads/2024/09/APEX_Admin-Logo-Template_APEX.png
ORGANIZER;CN="APEX Accelerator":MAILTO:apexaccelerator.adm@state.mn.us
END:VEVENT
END:VCALENDAR